BEGIN:VCALENDAR
VERSION:2.0
PRODID:-//Club Ajedrez Tres Cantos - ECPv6.15.11//NONSGML v1.0//EN
CALSCALE:GREGORIAN
METHOD:PUBLISH
X-ORIGINAL-URL:https://ajedreztrescantos.com
X-WR-CALDESC:Eventos para Club Ajedrez Tres Cantos
REFRESH-INTERVAL;VALUE=DURATION:PT1H
X-Robots-Tag:noindex
X-PUBLISHED-TTL:PT1H
BEGIN:VTIMEZONE
TZID:Europe/Madrid
BEGIN:DAYLIGHT
TZOFFSETFROM:+0100
TZOFFSETTO:+0200
TZNAME:CEST
DTSTART:20240331T010000
END:DAYLIGHT
BEGIN:STANDARD
TZOFFSETFROM:+0200
TZOFFSETTO:+0100
TZNAME:CET
DTSTART:20241027T010000
END:STANDARD
BEGIN:DAYLIGHT
TZOFFSETFROM:+0100
TZOFFSETTO:+0200
TZNAME:CEST
DTSTART:20250330T010000
END:DAYLIGHT
BEGIN:STANDARD
TZOFFSETFROM:+0200
TZOFFSETTO:+0100
TZNAME:CET
DTSTART:20251026T010000
END:STANDARD
BEGIN:DAYLIGHT
TZOFFSETFROM:+0100
TZOFFSETTO:+0200
TZNAME:CEST
DTSTART:20260329T010000
END:DAYLIGHT
BEGIN:STANDARD
TZOFFSETFROM:+0200
TZOFFSETTO:+0100
TZNAME:CET
DTSTART:20261025T010000
END:STANDARD
END:VTIMEZONE
BEGIN:VEVENT
DTSTART;TZID=Europe/Madrid:20250202T100000
DTEND;TZID=Europe/Madrid:20250202T140000
DTSTAMP:20260425T061629
CREATED:20250126T173806Z
LAST-MODIFIED:20250126T173908Z
UID:1748-1738490400-1738504800@ajedreztrescantos.com
SUMMARY:Liga Madrid lentas jornada 7\, 2 de febrero de 2025
DESCRIPTION:Liga Madrid lentas jornada 7\, 2 de febrero de 2025 \nPara localizaciones ver info64 y la\,página web de la FMA
URL:https://ajedreztrescantos.com/event/liga-madrid-lentas-jornada-7-2-de-febrero-de-2025/
CATEGORIES:Actividades,Social
END:VEVENT
BEGIN:VEVENT
DTSTART;TZID=Europe/Madrid:20250209T100000
DTEND;TZID=Europe/Madrid:20250209T170000
DTSTAMP:20260425T061629
CREATED:20250126T173848Z
LAST-MODIFIED:20250126T173848Z
UID:1750-1739095200-1739120400@ajedreztrescantos.com
SUMMARY:Liga Madrid lentas jornada 8\, 9 de febrero de 2025
DESCRIPTION:Liga Madrid lentas jornada 8\, 9 de febrero de 2025 \nPara localizaciones ver info64 y la\,página web de la FMA
URL:https://ajedreztrescantos.com/event/liga-madrid-lentas-jornada-8-9-de-febrero-de-2025/
CATEGORIES:Actividades,Social
END:VEVENT
BEGIN:VEVENT
DTSTART;TZID=Europe/Madrid:20250216T100000
DTEND;TZID=Europe/Madrid:20250216T170000
DTSTAMP:20260425T061629
CREATED:20250126T174111Z
LAST-MODIFIED:20250126T174241Z
UID:1752-1739700000-1739725200@ajedreztrescantos.com
SUMMARY:Liga Madrid lentas jornada 9\, 16 de febrero de 2025
DESCRIPTION:Liga Madrid lentas jornada 9\, 16 de febrero de 2025 \nPara localizaciones ver info64 y la\,página web de la FMA
URL:https://ajedreztrescantos.com/event/liga-madrid-lentas-jornada-9-16-de-febrero-de-2025/
CATEGORIES:Actividades,Social
END:VEVENT
BEGIN:VEVENT
DTSTART;TZID=Europe/Madrid:20250222T100000
DTEND;TZID=Europe/Madrid:20250222T130000
DTSTAMP:20260425T061629
CREATED:20250208T130256Z
LAST-MODIFIED:20250208T130746Z
UID:1768-1740218400-1740229200@ajedreztrescantos.com
SUMMARY:Torneo Escuelas ajedrez tres Cantos 2025 Categorías  Sub-6 y Sub-8  - 22 de febrero 10H:00
DESCRIPTION:Torneo Escuelas ajedrez tres Cantos 2025 Categorías Sub-6 y Sub-8 – 22 de febrero 10H:00 \nCategorías SUB-6 y SUB-8\n  \nÉste es un torneo totalmente informal\, con la única pretensión de que las alumnas y alumnos de las escuelas\, practiquen lo que es un torneo de ajedrez. El único objetivo es divertirse y practicar lo aprendido\, que servirá de calentamiento para el campeonato escolar de Tres cantos que organizaremos en abril. \nAl final del torneo además de medallas habrá pizzas para todas y todos (y alternativas para los alérgicos). \n¿Quién puede jugarlo?:\nTodas las niñas y niños apuntados a nuestras clases de ajedrez\, tanto en coles como en el club y que hayan nacido en 2019 o 2020 para Sub-6 o 2017 y 2018 para Sub-8. \nCómo inscribirse:\nEn primer lugar\, habrá que apuntarse en el siguiente FORMULARIO \nOs mandaremos un correo de confirmación dentro de las 24-48 horas siguientes. \nEl aforo máximo entre los dos torneos es de 100 participantes. \n¿Cuándo? Sábado 22 de febrero por la mañana a las 10:00:\nEse día\, habrá que llegar con tiempo\, entre 9:30 y 9:45 para confirmar las inscripciones y no emparejar a los que no hayan venido. \nA las 10:00 publicaremos la primera ronda. \nJugarán 6 partidas a un ritmo de 6’ + 4” adicionales por movimiento. \nNo hay eliminatorias\, se juegan todas las rondas. \nSobre las 13:00 repartiremos las medallas y tomaremos las pizzas. \nDónde se juega. \nLo haremos en la sede de nuestro club.  Polideportivo Laura Oter. Avda de Labradores\, 15. En la segunda planta. \n  \n¡¡Os esperamos!!
URL:https://ajedreztrescantos.com/event/torneo-escuelas-ajedrez-tres-cantos-2025-categorias-sub-6-y-sub-8-22-de-febrero-10h00/
CATEGORIES:Actividades,Social
END:VEVENT
BEGIN:VEVENT
DTSTART;TZID=Europe/Madrid:20250222T170000
DTEND;TZID=Europe/Madrid:20250222T200000
DTSTAMP:20260425T061629
CREATED:20250208T125608Z
LAST-MODIFIED:20250208T130751Z
UID:1766-1740243600-1740254400@ajedreztrescantos.com
SUMMARY:Torneo Escuelas ajedrez tres Cantos 2025 Categorías  Sub-10 y Sub-12  - 22 de febrero 2025  16H30
DESCRIPTION:Torneo Escuelas ajedrez tres Cantos 2025 Categorías Sub-10 y Sub-12 \nÉste es un torneo totalmente informal\, con la única pretensión de que las alumnas y alumnos de las escuelas\, practiquen lo que es un torneo de ajedrez. El único objetivo es divertirse y practicar lo aprendido\, que servirá de calentamiento para el campeonato escolar de Tres cantos que organizaremos en abril. \nAl final del torneo además de medallas habrá pizzas para todas y todos (y alternativas para los alérgicos). \n¿Quién puede jugarlo?:\nTodas las niñas y niños apuntados a nuestras clases de ajedrez\, tanto en coles como en el club y que hayan nacido en 2015 o 2016 para Sub-10 o 2013 y 2014 para Sub-12. \nCómo inscribirse:\nEn primer lugar\, habrá que apuntarse en el siguiente FORMULARIO \nOs mandaremos un correo de confirmación dentro de las 24-48 horas siguientes. \nEl aforo máximo entre los dos torneos es de 100 participantes. \n¿Cuándo? Sábado 22 de febrero por la tarde a las 17:00:\nEse día\, habrá que llegar con tiempo\, entre 16:30 y 16:45 para confirmar las inscripciones y no emparejar a los que no hayan venido. \nA las 17:00 publicaremos la primera ronda. \nJugarán 6 partidas a un ritmo de 6’ + 4” adicionales por movimiento. \nNo hay eliminatorias\, se juegan todas las rondas. \nSobre las 20:00 repartiremos las medallas y tomaremos las pizzas. \nDónde se juega. \nLo haremos en la sede de nuestro club.  Polideportivo Laura Oter. Avda de Labradores\, 15. En la segunda planta. \n  \n¡¡Os esperamos!!
URL:https://ajedreztrescantos.com/event/torneo-escuelas-ajedrez-tres-cantos-2025-categorias-sub-10-y-sub-12/
CATEGORIES:Actividades,Social
END:VEVENT
BEGIN:VEVENT
DTSTART;TZID=Europe/Madrid:20250223T100000
DTEND;TZID=Europe/Madrid:20250223T170000
DTSTAMP:20260425T061629
CREATED:20250126T174331Z
LAST-MODIFIED:20250126T174528Z
UID:1757-1740304800-1740330000@ajedreztrescantos.com
SUMMARY:Liga Madrid lentas jornada 10\, 23 de febrero de 2025
DESCRIPTION:Liga Madrid lentas jornada 10\, 23 de febrero de 2025 \nPara localizaciones ver info64 y la\,página web de la FMA
URL:https://ajedreztrescantos.com/event/liga-madrid-lentas-jornada-10-23-de-febrero-de-2025/
CATEGORIES:Actividades,Social
END:VEVENT
END:VCALENDAR