BEGIN:VCALENDAR
VERSION:2.0
PRODID:-//Club Ajedrez Tres Cantos - ECPv6.15.11//NONSGML v1.0//EN
CALSCALE:GREGORIAN
METHOD:PUBLISH
X-ORIGINAL-URL:https://ajedreztrescantos.com
X-WR-CALDESC:Eventos para Club Ajedrez Tres Cantos
REFRESH-INTERVAL;VALUE=DURATION:PT1H
X-Robots-Tag:noindex
X-PUBLISHED-TTL:PT1H
BEGIN:VTIMEZONE
TZID:Europe/Madrid
BEGIN:DAYLIGHT
TZOFFSETFROM:+0100
TZOFFSETTO:+0200
TZNAME:CEST
DTSTART:20240331T010000
END:DAYLIGHT
BEGIN:STANDARD
TZOFFSETFROM:+0200
TZOFFSETTO:+0100
TZNAME:CET
DTSTART:20241027T010000
END:STANDARD
BEGIN:DAYLIGHT
TZOFFSETFROM:+0100
TZOFFSETTO:+0200
TZNAME:CEST
DTSTART:20250330T010000
END:DAYLIGHT
BEGIN:STANDARD
TZOFFSETFROM:+0200
TZOFFSETTO:+0100
TZNAME:CET
DTSTART:20251026T010000
END:STANDARD
BEGIN:DAYLIGHT
TZOFFSETFROM:+0100
TZOFFSETTO:+0200
TZNAME:CEST
DTSTART:20260329T010000
END:DAYLIGHT
BEGIN:STANDARD
TZOFFSETFROM:+0200
TZOFFSETTO:+0100
TZNAME:CET
DTSTART:20261025T010000
END:STANDARD
END:VTIMEZONE
BEGIN:VEVENT
DTSTART;TZID=Europe/Madrid:20250511T080000
DTEND;TZID=Europe/Madrid:20250511T170000
DTSTAMP:20260425T012328
CREATED:20250126T160448Z
LAST-MODIFIED:20250509T083134Z
UID:1686-1746950400-1746982800@ajedreztrescantos.com
SUMMARY:IV memorial Gonzalo - 11 de mayo de 2025
DESCRIPTION:IV memorial Gonzalo – 11 de mayo de 2025 \nEmplazamiento: Club Ajedrez Tres Cantos – Polideportivo Laura Oter
URL:https://ajedreztrescantos.com/event/iv-memorial-gonzalo-11-de-mayo-de-2025/
CATEGORIES:Actividades,Social
END:VEVENT
BEGIN:VEVENT
DTSTART;TZID=Europe/Madrid:20250511T100000
DTEND;TZID=Europe/Madrid:20250511T140000
DTSTAMP:20260425T012328
CREATED:20250126T164253Z
LAST-MODIFIED:20250208T133931Z
UID:1702-1746957600-1746972000@ajedreztrescantos.com
SUMMARY:Torneo Social de lentas 2025 Jornada 4\,  11 de Mayo de 2025 10H
DESCRIPTION:Torneo Social de lentas 2025 Jornada 4\, 27 de abril de 2025 \nLugar de Juego Polideportivo Laura Oter Club de Ajedrez Tres Cantos \nSocial Club Ajedrez Tres Cantos – 2025 \nSistema Suizo a 6 rondas \nValedero para Elo FIDE  \nLugar: Polideportivo Laura Oter\, Av/Labradores 15 \nRitmo de juego: 60’ + 30”  \nFechas: Domingos 30 de marzo\, 6 y 13 de abril\, 11\, 18 y 25 de mayo \nHorario: 10:00 \nInscripción: Por correo electrónico a inscripciones@ajedreztrescantos.com \,hasta el viernes 28 de marzo a las 22:00. \nLos emparejamientos saldrán el miércoles por la noche o jueves por la mañana anterior a cada ronda\, excepto la primera que saldrá el sábado. \nSe podrán solicitar 2 byes de medio punto siempre que se comuniquen antes de la publicación de la ronda. La última ronda el bye será de 0 puntos. \nUna incomparecencia no avisada al árbitro supone la eliminación del torneo. \nPremios:\n– 50€ Campeón \n– 30€ Subcampeón \n– 20€ al primero sub 1700 \n– 20€ al primero sin elo \n– 20€ al primero sub 16 \n  \nDesempates (con correcciones FIDE): \n\nMediano Buchholz\nBuchholz -1\nSonneborn-Berger\nProgresivo (hasta sus últimas consecuencias).\nBuchholz Total\nMayor número de victorias.\nResultado Particular.
URL:https://ajedreztrescantos.com/event/tornero-social-de-lentas-2025-jornada-4-27-de-abril-de-2025/
CATEGORIES:Actividades,Social
END:VEVENT
BEGIN:VEVENT
DTSTART;TZID=Europe/Madrid:20250518T100000
DTEND;TZID=Europe/Madrid:20250518T140000
DTSTAMP:20260425T012328
CREATED:20250126T164407Z
LAST-MODIFIED:20250208T134111Z
UID:1704-1747562400-1747576800@ajedreztrescantos.com
SUMMARY:Torneo Social de lentas 2025 Jornada 5\,  18 de Mayo de 2025 10h
DESCRIPTION:Torneo Social de lentas 2025 Jornada 5\, 4 de Mayo de 2025 \nLugar de Juego Polideportivo Laura Oter Club de Ajedrez Tres Cantos \nSocial Club Ajedrez Tres Cantos – 2025 \nSistema Suizo a 6 rondas \nValedero para Elo FIDE  \nLugar: Polideportivo Laura Oter\, Av/Labradores 15 \nRitmo de juego: 60’ + 30”  \nFechas: Domingos 30 de marzo\, 6 y 13 de abril\, 11\, 18 y 25 de mayo \nHorario: 10:00 \nInscripción: Por correo electrónico a inscripciones@ajedreztrescantos.com \,hasta el viernes 28 de marzo a las 22:00. \nLos emparejamientos saldrán el miércoles por la noche o jueves por la mañana anterior a cada ronda\, excepto la primera que saldrá el sábado. \nSe podrán solicitar 2 byes de medio punto siempre que se comuniquen antes de la publicación de la ronda. La última ronda el bye será de 0 puntos. \nUna incomparecencia no avisada al árbitro supone la eliminación del torneo. \nPremios:\n– 50€ Campeón \n– 30€ Subcampeón \n– 20€ al primero sub 1700 \n– 20€ al primero sin elo \n– 20€ al primero sub 16 \n  \nDesempates (con correcciones FIDE): \n\nMediano Buchholz\nBuchholz -1\nSonneborn-Berger\nProgresivo (hasta sus últimas consecuencias).\nBuchholz Total\nMayor número de victorias.\nResultado Particular.
URL:https://ajedreztrescantos.com/event/tornero-social-de-lentas-2025-jornada-5-4-de-mayo-de-2025/
CATEGORIES:Actividades,Social
END:VEVENT
BEGIN:VEVENT
DTSTART;TZID=Europe/Madrid:20250525T080000
DTEND;TZID=Europe/Madrid:20250525T170000
DTSTAMP:20260425T012328
CREATED:20250126T160603Z
LAST-MODIFIED:20250126T173040Z
UID:1688-1748160000-1748192400@ajedreztrescantos.com
SUMMARY:Jornada de Ajedrez Cruz Roja 2025\, 25 de Mayo
DESCRIPTION:Jornada de Ajedrez Cruz Roja 2025\, 25 de Mayo
URL:https://ajedreztrescantos.com/event/jornada-de-ajedrez-cruz-roja-2025-25-de-mayo/
CATEGORIES:Actividades,Social
END:VEVENT
BEGIN:VEVENT
DTSTART;TZID=Europe/Madrid:20250525T100000
DTEND;TZID=Europe/Madrid:20250525T140000
DTSTAMP:20260425T012328
CREATED:20250126T165916Z
LAST-MODIFIED:20250208T134240Z
UID:1719-1748167200-1748181600@ajedreztrescantos.com
SUMMARY:Torneo Social de lentas 2025 Jornada 6\,  25 de Mayo de 2025 - 10H
DESCRIPTION:Torneo Social de lentas 2025 Jornada 8\, 25 de Mayo de 2025 \nLugar de Juego Polideportivo Laura Oter Club de Ajedrez Tres Cantos \nSocial Club Ajedrez Tres Cantos – 2025 \nSistema Suizo a 6 rondas \nValedero para Elo FIDE  \nLugar: Polideportivo Laura Oter\, Av/Labradores 15 \nRitmo de juego: 60’ + 30”  \nFechas: Domingos 30 de marzo\, 6 y 13 de abril\, 11\, 18 y 25 de mayo \nHorario: 10:00 \nInscripción: Por correo electrónico a inscripciones@ajedreztrescantos.com \,hasta el viernes 28 de marzo a las 22:00. \nLos emparejamientos saldrán el miércoles por la noche o jueves por la mañana anterior a cada ronda\, excepto la primera que saldrá el sábado. \nSe podrán solicitar 2 byes de medio punto siempre que se comuniquen antes de la publicación de la ronda. La última ronda el bye será de 0 puntos. \nUna incomparecencia no avisada al árbitro supone la eliminación del torneo. \nPremios:\n– 50€ Campeón \n– 30€ Subcampeón \n– 20€ al primero sub 1700 \n– 20€ al primero sin elo \n– 20€ al primero sub 16 \n  \nDesempates (con correcciones FIDE): \n\nMediano Buchholz\nBuchholz -1\nSonneborn-Berger\nProgresivo (hasta sus últimas consecuencias).\nBuchholz Total\nMayor número de victorias.\nResultado Particular.
URL:https://ajedreztrescantos.com/event/torneo-social-de-lentas-2025-jornada-8-25-de-mayo-de-2025/
CATEGORIES:Actividades,Social
END:VEVENT
END:VCALENDAR