BEGIN:VCALENDAR
VERSION:2.0
PRODID:-//Club Ajedrez Tres Cantos - ECPv6.15.11//NONSGML v1.0//EN
CALSCALE:GREGORIAN
METHOD:PUBLISH
X-WR-CALNAME:Club Ajedrez Tres Cantos
X-ORIGINAL-URL:https://ajedreztrescantos.com
X-WR-CALDESC:Eventos para Club Ajedrez Tres Cantos
REFRESH-INTERVAL;VALUE=DURATION:PT1H
X-Robots-Tag:noindex
X-PUBLISHED-TTL:PT1H
BEGIN:VTIMEZONE
TZID:Europe/Madrid
BEGIN:DAYLIGHT
TZOFFSETFROM:+0100
TZOFFSETTO:+0200
TZNAME:CEST
DTSTART:20240331T010000
END:DAYLIGHT
BEGIN:STANDARD
TZOFFSETFROM:+0200
TZOFFSETTO:+0100
TZNAME:CET
DTSTART:20241027T010000
END:STANDARD
BEGIN:DAYLIGHT
TZOFFSETFROM:+0100
TZOFFSETTO:+0200
TZNAME:CEST
DTSTART:20250330T010000
END:DAYLIGHT
BEGIN:STANDARD
TZOFFSETFROM:+0200
TZOFFSETTO:+0100
TZNAME:CET
DTSTART:20251026T010000
END:STANDARD
BEGIN:DAYLIGHT
TZOFFSETFROM:+0100
TZOFFSETTO:+0200
TZNAME:CEST
DTSTART:20260329T010000
END:DAYLIGHT
BEGIN:STANDARD
TZOFFSETFROM:+0200
TZOFFSETTO:+0100
TZNAME:CET
DTSTART:20261025T010000
END:STANDARD
END:VTIMEZONE
BEGIN:VEVENT
DTSTART;TZID=Europe/Madrid:20250621T100000
DTEND;TZID=Europe/Madrid:20250621T143000
DTSTAMP:20260424T232746
CREATED:20250126T170613Z
LAST-MODIFIED:20250126T173035Z
UID:1728-1750500000-1750516200@ajedreztrescantos.com
SUMMARY:Torneo abierto no federados 21 de Junio de 2025
DESCRIPTION:Torneo abierto no federados 21 de Junio de 2025 \nSala Baluarte\, Centro cultural\, Tres Cantos
URL:https://ajedreztrescantos.com/event/torneo-abierto-no-federados-21-de-junio-de-2025/
CATEGORIES:Actividades,Social
END:VEVENT
BEGIN:VEVENT
DTSTART;TZID=Europe/Madrid:20250621T173000
DTEND;TZID=Europe/Madrid:20250621T223000
DTSTAMP:20260424T232746
CREATED:20250126T171205Z
LAST-MODIFIED:20250126T173024Z
UID:1730-1750527000-1750545000@ajedreztrescantos.com
SUMMARY:XV Open Internacional de Tres Cantos\, Jornada 1\, 21 de Junio de 2025
DESCRIPTION:XV Open Internacional de Tres Cantos\, Jornada 1\, 21 de Junio de 2025 \nSala Baluarte\, centro Cultural de Tres Cantos
URL:https://ajedreztrescantos.com/event/xv-open-internacional-de-tres-cantos-jornada-1-21-de-junio-de-2025/
CATEGORIES:Actividades,Social
END:VEVENT
BEGIN:VEVENT
DTSTART;TZID=Europe/Madrid:20250622T170000
DTEND;TZID=Europe/Madrid:20250622T223000
DTSTAMP:20260424T232746
CREATED:20250126T171310Z
LAST-MODIFIED:20250126T173258Z
UID:1732-1750611600-1750631400@ajedreztrescantos.com
SUMMARY:XV Open Internacional de Tres Cantos\, Jornada 2\, 22 de Junio de 2025
DESCRIPTION:XV Open Internacional de Tres Cantos\, Jornada 2\, 22 de Junio de 2025 \nSala Baluarte\, centro Cultural de Tres Cantos
URL:https://ajedreztrescantos.com/event/xv-open-internacional-de-tres-cantos-jornada-2-22-de-junio-de-2025/
CATEGORIES:Actividades,Social
END:VEVENT
BEGIN:VEVENT
DTSTART;TZID=Europe/Madrid:20250623T173000
DTEND;TZID=Europe/Madrid:20250623T223000
DTSTAMP:20260424T232746
CREATED:20250126T171425Z
LAST-MODIFIED:20250126T173014Z
UID:1734-1750699800-1750717800@ajedreztrescantos.com
SUMMARY:XV Open Internacional de Tres Cantos\, Jornada 3\, 23 de Junio de 2025
DESCRIPTION:XV Open Internacional de Tres Cantos\, Jornada 3\, 23 de Junio de 2025 \nSala Baluarte\, centro Cultural de Tres Cantos
URL:https://ajedreztrescantos.com/event/xv-open-internacional-de-tres-cantos-jornada-3-23-de-junio-de-2025/
CATEGORIES:Actividades,Social
END:VEVENT
BEGIN:VEVENT
DTSTART;TZID=Europe/Madrid:20250624T173000
DTEND;TZID=Europe/Madrid:20250624T203000
DTSTAMP:20260424T232746
CREATED:20250126T171521Z
LAST-MODIFIED:20250126T173018Z
UID:1736-1750786200-1750797000@ajedreztrescantos.com
SUMMARY:XV Open Internacional de Tres Cantos\, Jornada 4\, 24 de Junio de 2025
DESCRIPTION:XV Open Internacional de Tres Cantos\, Jornada 4\, 24 de Junio de 2025 \nSala Baluarte\, centro Cultural de Tres Cantos
URL:https://ajedreztrescantos.com/event/xv-open-internacional-de-tres-cantos-jornada-4-24-de-junio-de-2025/
CATEGORIES:Actividades,Social
END:VEVENT
BEGIN:VEVENT
DTSTART;TZID=Europe/Madrid:20250625T173000
DTEND;TZID=Europe/Madrid:20250625T203000
DTSTAMP:20260424T232746
CREATED:20250126T171626Z
LAST-MODIFIED:20250126T173008Z
UID:1738-1750872600-1750883400@ajedreztrescantos.com
SUMMARY:XV Open Internacional de Tres Cantos\, Jornada 5\, 25 de Junio de 2025
DESCRIPTION:XV Open Internacional de Tres Cantos\, Jornada 5\, 25 de Junio de 2025 \nSala Baluarte\, centro Cultural de Tres Cantos
URL:https://ajedreztrescantos.com/event/xv-open-internacional-de-tres-cantos-jornada-5-25-de-junio-de-2025/
CATEGORIES:Actividades,Social
END:VEVENT
BEGIN:VEVENT
DTSTART;TZID=Europe/Madrid:20250626T173000
DTEND;TZID=Europe/Madrid:20250626T223000
DTSTAMP:20260424T232746
CREATED:20250126T171805Z
LAST-MODIFIED:20250126T173252Z
UID:1740-1750959000-1750977000@ajedreztrescantos.com
SUMMARY:XV Open Internacional de Tres Cantos\, Jornada 6\, 26 de Junio de 2025
DESCRIPTION:XV Open Internacional de Tres Cantos\, Jornada 6\, 26 de Junio de 2025 \nSala Baluarte\, centro Cultural de Tres Cantos
URL:https://ajedreztrescantos.com/event/xv-open-internacional-de-tres-cantos-jornada-6-26-de-junio-de-2025/
CATEGORIES:Actividades,Social
END:VEVENT
BEGIN:VEVENT
DTSTART;TZID=Europe/Madrid:20250627T173000
DTEND;TZID=Europe/Madrid:20250627T223000
DTSTAMP:20260424T232746
CREATED:20250126T171903Z
LAST-MODIFIED:20250126T173002Z
UID:1742-1751045400-1751063400@ajedreztrescantos.com
SUMMARY:XV Open Internacional de Tres Cantos\, Jornada 7\, 27 de Junio de 2025
DESCRIPTION:XV Open Internacional de Tres Cantos\, Jornada 7\, 27 de Junio de 2025 \nSala Baluarte\, centro Cultural de Tres Cantos
URL:https://ajedreztrescantos.com/event/xv-open-internacional-de-tres-cantos-jornada-7-27-de-junio-de-2025/
CATEGORIES:Actividades,Social
END:VEVENT
BEGIN:VEVENT
DTSTART;TZID=Europe/Madrid:20250628T173000
DTEND;TZID=Europe/Madrid:20250628T223000
DTSTAMP:20260424T232746
CREATED:20250126T172032Z
LAST-MODIFIED:20250126T172957Z
UID:1744-1751131800-1751149800@ajedreztrescantos.com
SUMMARY:XV Open Internacional de Tres Cantos\, Jornada 8\, 28 de Junio de 2025
DESCRIPTION:XV Open Internacional de Tres Cantos\, Jornada 8\, 28 de Junio de 2025 \nSala Baluarte\, centro Cultural de Tres Cantos
URL:https://ajedreztrescantos.com/event/xv-open-internacional-de-tres-cantos-jornada-8-28-de-junio-de-2025/
CATEGORIES:Actividades,Social
END:VEVENT
BEGIN:VEVENT
DTSTART;TZID=Europe/Madrid:20250629T080000
DTEND;TZID=Europe/Madrid:20250629T140000
DTSTAMP:20260424T232746
CREATED:20250126T172127Z
LAST-MODIFIED:20250126T172951Z
UID:1746-1751184000-1751205600@ajedreztrescantos.com
SUMMARY:XV Open Internacional de Tres Cantos\, Jornada 9\, 29 de Junio de 2025
DESCRIPTION:XV Open Internacional de Tres Cantos\, Jornada 9\, 29 de Junio de 2025 \nSala Baluarte\, centro Cultural de Tres Cantos
URL:https://ajedreztrescantos.com/event/xv-open-internacional-de-tres-cantos-jornada-9-29-de-junio-de-2025/
CATEGORIES:Actividades,Social
END:VEVENT
END:VCALENDAR