BEGIN:VCALENDAR
VERSION:2.0
PRODID:-//Club Ajedrez Tres Cantos - ECPv6.15.11//NONSGML v1.0//EN
CALSCALE:GREGORIAN
METHOD:PUBLISH
X-WR-CALNAME:Club Ajedrez Tres Cantos
X-ORIGINAL-URL:https://ajedreztrescantos.com
X-WR-CALDESC:Eventos para Club Ajedrez Tres Cantos
REFRESH-INTERVAL;VALUE=DURATION:PT1H
X-Robots-Tag:noindex
X-PUBLISHED-TTL:PT1H
BEGIN:VTIMEZONE
TZID:Europe/Madrid
BEGIN:DAYLIGHT
TZOFFSETFROM:+0100
TZOFFSETTO:+0200
TZNAME:CEST
DTSTART:20240331T010000
END:DAYLIGHT
BEGIN:STANDARD
TZOFFSETFROM:+0200
TZOFFSETTO:+0100
TZNAME:CET
DTSTART:20241027T010000
END:STANDARD
BEGIN:DAYLIGHT
TZOFFSETFROM:+0100
TZOFFSETTO:+0200
TZNAME:CEST
DTSTART:20250330T010000
END:DAYLIGHT
BEGIN:STANDARD
TZOFFSETFROM:+0200
TZOFFSETTO:+0100
TZNAME:CET
DTSTART:20251026T010000
END:STANDARD
BEGIN:DAYLIGHT
TZOFFSETFROM:+0100
TZOFFSETTO:+0200
TZNAME:CEST
DTSTART:20260329T010000
END:DAYLIGHT
BEGIN:STANDARD
TZOFFSETFROM:+0200
TZOFFSETTO:+0100
TZNAME:CET
DTSTART:20261025T010000
END:STANDARD
END:VTIMEZONE
BEGIN:VEVENT
DTSTART;TZID=Europe/Madrid:20250406T100000
DTEND;TZID=Europe/Madrid:20250406T140000
DTSTAMP:20260425T023841
CREATED:20250126T164007Z
LAST-MODIFIED:20250208T133450Z
UID:1696-1743933600-1743948000@ajedreztrescantos.com
SUMMARY:Torneo Social de lentas 2025 Jornada 2\,  6 de abril de 2025 - 10h
DESCRIPTION:Torneo Social de lentas 2025 Jornada 2\, 6 de abril de 2025 \nLugar de Juego Polideportivo Laura Oter Club de Ajedrez Tres Cantos \nSocial Club Ajedrez Tres Cantos – 2025 \nSistema Suizo a 6 rondas \nValedero para Elo FIDE  \nLugar: Polideportivo Laura Oter\, Av/Labradores 15 \nRitmo de juego: 60’ + 30”  \nFechas: Domingos 30 de marzo\, 6 y 13 de abril\, 11\, 18 y 25 de mayo \nHorario: 10:00 \nInscripción: Por correo electrónico a inscripciones@ajedreztrescantos.com \,hasta el viernes 28 de marzo a las 22:00. \nLos emparejamientos saldrán el miércoles por la noche o jueves por la mañana anterior a cada ronda\, excepto la primera que saldrá el sábado. \nSe podrán solicitar 2 byes de medio punto siempre que se comuniquen antes de la publicación de la ronda. La última ronda el bye será de 0 puntos. \nUna incomparecencia no avisada al árbitro supone la eliminación del torneo. \nPremios:\n– 50€ Campeón \n– 30€ Subcampeón \n– 20€ al primero sub 1700 \n– 20€ al primero sin elo \n– 20€ al primero sub 16 \n  \nDesempates (con correcciones FIDE): \n\nMediano Buchholz\nBuchholz -1\nSonneborn-Berger\nProgresivo (hasta sus últimas consecuencias).\nBuchholz Total\nMayor número de victorias.\nResultado Particular.
URL:https://ajedreztrescantos.com/event/tornero-social-de-lentas-2025-jornada-2-6-de-abril-de-2025/
CATEGORIES:Actividades,Social
END:VEVENT
BEGIN:VEVENT
DTSTART;TZID=Europe/Madrid:20250412T080000
DTEND;TZID=Europe/Madrid:20250412T170000
DTSTAMP:20260425T023841
CREATED:20250126T155749Z
LAST-MODIFIED:20250126T173157Z
UID:1678-1744444800-1744477200@ajedreztrescantos.com
SUMMARY:Torneo Escolar 12 de Abril 2025 - Jornada 1 de  2
DESCRIPTION:Torneo Escolar 13 de Abril 2025 – Jornada 1 de 2 \nLugar de Juego Polideportivo Laura Oter\,  Club de Ajedrez Tres Cantos \nAforo máximo 100 Jugadores
URL:https://ajedreztrescantos.com/event/torneo-escolar-2025-jornada-1-de-2/
CATEGORIES:Actividades,Social
END:VEVENT
BEGIN:VEVENT
DTSTART;TZID=Europe/Madrid:20250413T100000
DTEND;TZID=Europe/Madrid:20250413T140000
DTSTAMP:20260425T023841
CREATED:20250126T164121Z
LAST-MODIFIED:20250208T133617Z
UID:1698-1744538400-1744552800@ajedreztrescantos.com
SUMMARY:Torneo Social de lentas 2025 Jornada 3\,  13 de abril de 2025 - 10h
DESCRIPTION:Torneo Social de lentas 2025 Jornada 3\, 13 de abril de 2025 \nLugar de Juego Polideportivo Laura Oter Club de Ajedrez Tres Cantos \nSocial Club Ajedrez Tres Cantos – 2025 \nSistema Suizo a 6 rondas \nValedero para Elo FIDE  \nLugar: Polideportivo Laura Oter\, Av/Labradores 15 \nRitmo de juego: 60’ + 30”  \nFechas: Domingos 30 de marzo\, 6 y 13 de abril\, 11\, 18 y 25 de mayo \nHorario: 10:00 \nInscripción: Por correo electrónico a inscripciones@ajedreztrescantos.com \,hasta el viernes 28 de marzo a las 22:00. \nLos emparejamientos saldrán el miércoles por la noche o jueves por la mañana anterior a cada ronda\, excepto la primera que saldrá el sábado. \nSe podrán solicitar 2 byes de medio punto siempre que se comuniquen antes de la publicación de la ronda. La última ronda el bye será de 0 puntos. \nUna incomparecencia no avisada al árbitro supone la eliminación del torneo. \nPremios:\n– 50€ Campeón \n– 30€ Subcampeón \n– 20€ al primero sub 1700 \n– 20€ al primero sin elo \n– 20€ al primero sub 16 \n  \nDesempates (con correcciones FIDE): \n\nMediano Buchholz\nBuchholz -1\nSonneborn-Berger\nProgresivo (hasta sus últimas consecuencias).\nBuchholz Total\nMayor número de victorias.\nResultado Particular.\nSorteo
URL:https://ajedreztrescantos.com/event/tornero-social-de-lentas-2025-jornada-13-de-abril-de-2025/
CATEGORIES:Actividades,Social
END:VEVENT
BEGIN:VEVENT
DTSTART;TZID=Europe/Madrid:20250427T080000
DTEND;TZID=Europe/Madrid:20250427T170000
DTSTAMP:20260425T023841
CREATED:20250126T155958Z
LAST-MODIFIED:20250126T173141Z
UID:1680-1745740800-1745773200@ajedreztrescantos.com
SUMMARY:Torneo Escolar 27 de Abril 2025 - Jornada 2 de  2
DESCRIPTION:Torneo Escolar 27 de Abril 2025 – Jornada 2 de 2 \naforo Máximo de 100 Jugadoers
URL:https://ajedreztrescantos.com/event/torneo-escolar-13-de-abril-2025-jornada-2-de-2/
CATEGORIES:Actividades,Social
END:VEVENT
END:VCALENDAR